BEGIN:VCALENDAR
VERSION:2.0
PRODID:-//Tukios.com/
BEGIN:VEVENT
UID:d6cf31f4-fa81-44d9-a542-afcc1cf3c482@www.northumberlandfh.com
DTSTAMP:20260420T163722Z
DTSTART:20260422T140000Z
DTEND:20260422T150000Z
SUMMARY:Funeral Service
DESCRIPTION:
URL:https://www.northumberlandfh.com/obituaries/michael-sobey
LOCATION: 102 Pleasant St  Miramichi NB E1V 1X7
GEO:46.9952264;-65.5696747
END:VEVENT
END:VCALENDAR