BEGIN:VCALENDAR
VERSION:2.0
PRODID:-//Tukios.com/
BEGIN:VEVENT
UID:5587788b-d006-40e9-8f1d-6c59ec403142@www.northumberlandfh.com
DTSTAMP:20260420T163722Z
DTSTART:20260421T210000Z
DTEND:20260421T230000Z
SUMMARY:Visitation
DESCRIPTION:
URL:https://www.northumberlandfh.com/obituaries/michael-sobey
LOCATION: 102 Pleasant St  Miramichi NB E1V 1X7
GEO:46.9952264;-65.5696747
END:VEVENT
END:VCALENDAR