BEGIN:VCALENDAR
VERSION:2.0
PRODID:-//Tukios.com/
BEGIN:VEVENT
UID:18b3b040-9a04-48fb-a9a5-5acd7d40e4f2@www.northumberlandfh.com
DTSTAMP:20260420T163244Z
DTSTART:20260421T170000Z
DTEND:20260421T190000Z
SUMMARY:Visitation
DESCRIPTION:
URL:https://www.northumberlandfh.com/obituaries/michael-sobey
LOCATION: 102 Pleasant St  Miramichi NB E1V 1X7
GEO:46.9952264;-65.5696747
END:VEVENT
END:VCALENDAR