BEGIN:VCALENDAR
VERSION:2.0
PRODID:-//Tukios.com/
BEGIN:VEVENT
UID:43371242-6560-4d77-9eb3-6f7a9480306f@www.northumberlandfh.com
DTSTAMP:20260423T232739Z
DTSTART:20260429T140000Z
DTEND:20260429T150000Z
SUMMARY:Funeral Service
DESCRIPTION:
URL:https://www.northumberlandfh.com/obituaries/eric-foran
LOCATION: 360 Newcastle Blvd  Miramichi NB E1V 2J9
GEO:47.0064356;-65.568516
END:VEVENT
END:VCALENDAR