BEGIN:VCALENDAR
VERSION:2.0
PRODID:-//Tukios.com/
BEGIN:VEVENT
UID:740800bf-d562-4d10-98e4-c9b221658764@www.northumberlandfh.com
DTSTAMP:20260423T232140Z
DTSTART:20260428T210000Z
DTEND:20260428T230000Z
SUMMARY:Visitation
DESCRIPTION:
URL:https://www.northumberlandfh.com/obituaries/eric-foran
LOCATION: 102 Pleasant St  Miramichi NB E1V 1X7
GEO:46.9952264;-65.5696747
END:VEVENT
END:VCALENDAR