BEGIN:VCALENDAR
VERSION:2.0
PRODID:-//Tukios.com/
BEGIN:VEVENT
UID:dbaad307-6591-4e76-9945-f88b2f4d0ec8@www.northumberlandfh.com
DTSTAMP:20260423T232426Z
DTSTART:20260428T170000Z
DTEND:20260428T190000Z
SUMMARY:Visitation
DESCRIPTION:
URL:https://www.northumberlandfh.com/obituaries/eric-foran
LOCATION: 102 Pleasant St  Miramichi NB E1V 1X7
GEO:46.9952264;-65.5696747
END:VEVENT
END:VCALENDAR